BEGIN:VCALENDAR
VERSION:2.0
PRODID:-//hacksw/handcal//NONSGML v1.0//EN
BEGIN:VEVENT
SUMMARY:TAEI & N  - ARLES
UID:3da84b62-f44b-40d3-baea-d14d0bdca06c
DTSTART:20260502T060000Z
DTEND:20260503T150000Z
LOCATION:Localisation   
CATEGORIES:Sportif
STATUS:
URL;VALUE=URI:https://www.tirarcpaca.fr/evenements/2026/05/02/taei-n-arles-2444209
END:VEVENT
END:VCALENDAR
